Workbook
Name Sprachwahl: Quelle!$A$1

Sheet Supplier Change Request Form
B1: =INDEX(Quelle!B5:D5,1,Quelle!$A$1) -> Supplier Change Request Form
B4: =INDEX(Quelle!B4:D4,1,Quelle!$A$1) -> CRF no.: | G4: =INDEX(Quelle!B6:D6,1,Quelle!$A$1) -> Date of notification:
B7: =INDEX(Quelle!B7:D7,1,Quelle!$A$1) -> Name of Supplier:
B8: =INDEX(Quelle!B8:D8,1,Quelle!$A$1) -> Address of Supplier:
B9: =INDEX(Quelle!B9:D9,1,Quelle!$A$1) -> Supplier contact:
B10: =INDEX(Quelle!B10:D10,1,Quelle!$A$1) -> Name (Title): | H10: =INDEX(Quelle!B11:D11,1,Quelle!$A$1) -> Deptartment:
B11: =INDEX(Quelle!B12:D12,1,Quelle!$A$1) -> Telephone: | H11: =INDEX(Quelle!B13:D13,1,Quelle!$A$1) -> E-mail:
B13: =INDEX(Quelle!B14:D14,1,Quelle!$A$1) -> Notification made by:
B14: =INDEX(Quelle!B15:D15,1,Quelle!$A$1) -> Name (Title): | H14: =INDEX(Quelle!B16:D16,1,Quelle!$A$1) -> Dept.:
B15: =INDEX(Quelle!B17:D17,1,Quelle!$A$1) -> Telephone: | H15: =INDEX(Quelle!B18:D18,1,Quelle!$A$1) -> E-mail:
B17: =INDEX(Quelle!B19:D19,1,Quelle!$A$1) -> Products concerned:
B18: =INDEX(Quelle!B20:D20,1,Quelle!$A$1) -> Supplier product ID: | H18: =INDEX(Quelle!B21:D21,1,Quelle!$A$1) -> Customer product ID:
B19: =INDEX(Quelle!B22:D22,1,Quelle!$A$1) -> Reason for change (change of product specification, packaging, documentation, etc.):
B20: =INDEX(Quelle!B23:D23,1,Quelle!$A$1) -> Description of change:
B21: =INDEX(Quelle!B24:D24,1,Quelle!$A$1) -> (Substitution of materials, change in outward appearance and dimension, change in manufacturing process, change in critical manufacturing equipment, change in physical manufacturing facilities, etc.):
B23: =INDEX(Quelle!B25:D25,1,Quelle!$A$1) -> Specification update (implementation date, documentation):
B24: =INDEX(Quelle!B26:D26,1,Quelle!$A$1) -> Proposed effective date of change:
O25: FALSE
B26: =INDEX(Quelle!B27:D27,1,Quelle!$A$1) -> For approval:
B27: =INDEX(Quelle!B28:D28,1,Quelle!$A$1) -> Representative of Supplier: (Name/Date) | H27: =INDEX(Quelle!B29:D29,1,Quelle!$A$1) -> Representative of Heraeus: (Name/Date)
B29: =INDEX(Quelle!B30:D30,1,Quelle!$A$1) -> Internal use only
B30: =INDEX(Quelle!B31:D31,1,Quelle!$A$1) -> GBU(s) concerned: | D30: =INDEX(Quelle!B32:D32,1,Quelle!$A$1) -> Site(s) concerned: | G30: =INDEX(Quelle!B33:D33,1,Quelle!$A$1) -> SQM Coordinator: | J30: =INDEX(Quelle!B34:D34,1,Quelle!$A$1) -> Strategic Buyer: | O30: FALSE
O32: FALSE
O33: FALSE
O34: FALSE
O35: FALSE
O37: FALSE
O40: FALSE

Sheet Quelle
A1: 2
B3: Übersetzungstabelle
B4: Änderungsantrag Nr.: | C4: CRF no.: | D4: CRF no.:
B5: Änderungsantrag für Lieferanten | C5: Supplier Change Request Form | D5: 供应商变更申请表
B6: Datum der Mitteilung: | C6: Date of notification: | D6: 通知日期:
B7: Name des Lieferanten: | C7: Name of Supplier: | D7: 供应商名称:
B8: Adresse des Lieferanten: | C8: Address of Supplier: | D8: 供应商地址:
B9: Ansprechp. Lieferant: | C9: Supplier contact: | D9: 供应商联系人:
B10: Name (Titel): | C10: Name (Title): | D10: 姓名（职位）:
B11: Abteilung: | C11: Deptartment: | D11: 部门:
B12: Telefon: | C12: Telephone: | D12: 电话:
B13: E-Mail: | C13: E-mail: | D13: 邮箱:
B14: Antragsteller: | C14: Notification made by: | D14: 由谁提出的通知:
B15: Name (Titel): | C15: Name (Title): | D15: 姓名（职位）:
... B34: Strategischer Einkäufer: | C34: Strategic Buyer: | D34: 战略采购员：
